BEGIN:VCALENDAR
VERSION:2.0
PRODID:-//Trachtenverein Bietigheim e.V. - ECPv6.15.17//NONSGML v1.0//EN
CALSCALE:GREGORIAN
METHOD:PUBLISH
X-ORIGINAL-URL:https://www.trachtenverein-bietigheim.de
X-WR-CALDESC:Veranstaltungen für Trachtenverein Bietigheim e.V.
REFRESH-INTERVAL;VALUE=DURATION:PT1H
X-Robots-Tag:noindex
X-PUBLISHED-TTL:PT1H
BEGIN:VTIMEZONE
TZID:Europe/Berlin
BEGIN:DAYLIGHT
TZOFFSETFROM:+0100
TZOFFSETTO:+0200
TZNAME:CEST
DTSTART:20250330T010000
END:DAYLIGHT
BEGIN:STANDARD
TZOFFSETFROM:+0200
TZOFFSETTO:+0100
TZNAME:CET
DTSTART:20251026T010000
END:STANDARD
BEGIN:DAYLIGHT
TZOFFSETFROM:+0100
TZOFFSETTO:+0200
TZNAME:CEST
DTSTART:20260329T010000
END:DAYLIGHT
BEGIN:STANDARD
TZOFFSETFROM:+0200
TZOFFSETTO:+0100
TZNAME:CET
DTSTART:20261025T010000
END:STANDARD
BEGIN:DAYLIGHT
TZOFFSETFROM:+0100
TZOFFSETTO:+0200
TZNAME:CEST
DTSTART:20270328T010000
END:DAYLIGHT
BEGIN:STANDARD
TZOFFSETFROM:+0200
TZOFFSETTO:+0100
TZNAME:CET
DTSTART:20271031T010000
END:STANDARD
END:VTIMEZONE
BEGIN:VEVENT
DTSTART;TZID=Europe/Berlin:20260607T100000
DTEND;TZID=Europe/Berlin:20260607T170000
DTSTAMP:20260421T163245
CREATED:20260121T120233Z
LAST-MODIFIED:20260226T165459Z
UID:470-1780826400-1780851600@www.trachtenverein-bietigheim.de
SUMMARY:Tanzprobe Ebersbach
DESCRIPTION:
URL:https://www.trachtenverein-bietigheim.de/termin/tanzprobe-ebersbach/
LOCATION:Vereinsheim\, Bietigheimer Wobachstraße hinter dem Viadukt\, Bietigheim\, Germany
ATTACH;FMTTYPE=image/jpeg:https://www.trachtenverein-bietigheim.de/wp-content/uploads/2026/01/07.06.2026-Gautanzprobe-Ebersbach.jpg
ORGANIZER;CN="Trachtenverein Bietigheim e.V.":MAILTO:Gunter.Dlabal@t-online.de
END:VEVENT
BEGIN:VEVENT
DTSTART;TZID=Europe/Berlin:20260620T080000
DTEND;TZID=Europe/Berlin:20260620T190000
DTSTAMP:20260421T163245
CREATED:20260121T120901Z
LAST-MODIFIED:20260220T131930Z
UID:472-1781942400-1781982000@www.trachtenverein-bietigheim.de
SUMMARY:Landesgartenschau Ellwangen 2026
DESCRIPTION:
URL:https://www.trachtenverein-bietigheim.de/termin/landesgartenschau-ellwangen-2026/
LOCATION:Landesgartenschau Ellwangen 2026\, Ellwangen (Jagst)\, Baden-Württemberg\, 73479
CATEGORIES:Verein
ATTACH;FMTTYPE=image/jpeg:https://www.trachtenverein-bietigheim.de/wp-content/uploads/2026/01/Meine_Werke_Magazin_Ellwangen_Stadtwerke_cropped_01-e1688385049516.jpg
ORGANIZER;CN="Trachtenverein Bietigheim e.V.":MAILTO:Gunter.Dlabal@t-online.de
END:VEVENT
BEGIN:VEVENT
DTSTART;VALUE=DATE:20260722
DTEND;VALUE=DATE:20260727
DTSTAMP:20260421T163245
CREATED:20260121T121207Z
LAST-MODIFIED:20260202T214227Z
UID:475-1784678400-1785110399@www.trachtenverein-bietigheim.de
SUMMARY:EUROPEADE Bergamo 2026
DESCRIPTION:
URL:https://www.trachtenverein-bietigheim.de/termin/europeade-bergamo-2026/
CATEGORIES:Verein
ATTACH;FMTTYPE=image/jpeg:https://www.trachtenverein-bietigheim.de/wp-content/uploads/2026/01/04_Europeade-2019-Frankenberg-scaled.jpg
ORGANIZER;CN="Trachtenverein Bietigheim e.V.":MAILTO:Gunter.Dlabal@t-online.de
END:VEVENT
BEGIN:VEVENT
DTSTART;VALUE=DATE:20260724
DTEND;VALUE=DATE:20260727
DTSTAMP:20260421T163245
CREATED:20260121T121558Z
LAST-MODIFIED:20260121T121832Z
UID:477-1784851200-1785110399@www.trachtenverein-bietigheim.de
SUMMARY:Vinzenzifest Wendlingen 2026
DESCRIPTION:
URL:https://www.trachtenverein-bietigheim.de/termin/vinzenzifest-wendlingen-2026/
ATTACH;FMTTYPE=image/jpeg:https://www.trachtenverein-bietigheim.de/wp-content/uploads/2026/01/Vinzenzifest_Logo.jpg
END:VEVENT
BEGIN:VEVENT
DTSTART;VALUE=DATE:20260803
DTEND;VALUE=DATE:20260804
DTSTAMP:20260421T163245
CREATED:20260121T122304Z
LAST-MODIFIED:20260220T132027Z
UID:481-1785715200-1785801599@www.trachtenverein-bietigheim.de
SUMMARY:Oktoberfest in Bietigheim/Baden 2026
DESCRIPTION:
URL:https://www.trachtenverein-bietigheim.de/termin/oktoberfest-in-bietigheim-baden-2026/
ATTACH;FMTTYPE=image/jpeg:https://www.trachtenverein-bietigheim.de/wp-content/uploads/2026/01/Bietigheim-besucht-Bietigheim.jpg
END:VEVENT
BEGIN:VEVENT
DTSTART;VALUE=DATE:20260829
DTEND;VALUE=DATE:20260831
DTSTAMP:20260421T163245
CREATED:20260121T122437Z
LAST-MODIFIED:20260218T080951Z
UID:484-1787961600-1788134399@www.trachtenverein-bietigheim.de
SUMMARY:Markgröninger Schäferlauf 2026
DESCRIPTION:
URL:https://www.trachtenverein-bietigheim.de/termin/markgroeninger-schaeferlauf-2026/
ATTACH;FMTTYPE=image/jpeg:https://www.trachtenverein-bietigheim.de/wp-content/uploads/2026/01/Schaeferlauf-01-scaled.jpg
END:VEVENT
BEGIN:VEVENT
DTSTART;VALUE=DATE:20260907
DTEND;VALUE=DATE:20260908
DTSTAMP:20260421T163245
CREATED:20260121T122630Z
LAST-MODIFIED:20260220T132137Z
UID:487-1788739200-1788825599@www.trachtenverein-bietigheim.de
SUMMARY:Bietigheimer Pferdemarktumzug 2026
DESCRIPTION:
URL:https://www.trachtenverein-bietigheim.de/termin/bietigheimer-pferdemarktumzug-2026/
ATTACH;FMTTYPE=image/jpeg:https://www.trachtenverein-bietigheim.de/wp-content/uploads/2026/01/2025_09_01_131149-scaled.jpg
END:VEVENT
BEGIN:VEVENT
DTSTART;VALUE=DATE:20260911
DTEND;VALUE=DATE:20260914
DTSTAMP:20260421T163245
CREATED:20260121T122721Z
LAST-MODIFIED:20260218T080542Z
UID:489-1789084800-1789343999@www.trachtenverein-bietigheim.de
SUMMARY:Heimattage Oberkirch 2026
DESCRIPTION:
URL:https://www.trachtenverein-bietigheim.de/termin/heimattage-oberkirch-2026/
ATTACH;FMTTYPE=image/png:https://www.trachtenverein-bietigheim.de/wp-content/uploads/2026/01/Heimattage-Oberkirch-2026_Logo.png
END:VEVENT
BEGIN:VEVENT
DTSTART;TZID=Europe/Berlin:20261011T130000
DTEND;TZID=Europe/Berlin:20261011T190000
DTSTAMP:20260421T163245
CREATED:20260121T123205Z
LAST-MODIFIED:20260226T165554Z
UID:494-1791723600-1791745200@www.trachtenverein-bietigheim.de
SUMMARY:Gauversammlung Ebersbach 2026
DESCRIPTION:
URL:https://www.trachtenverein-bietigheim.de/termin/gauversammlung-ebersbach-2026/
ATTACH;FMTTYPE=image/jpeg:https://www.trachtenverein-bietigheim.de/wp-content/uploads/2026/01/11.10.2026-Gauherbstversammlung-scaled.jpg
END:VEVENT
BEGIN:VEVENT
DTSTART;TZID=Europe/Berlin:20261015T150000
DTEND;TZID=Europe/Berlin:20261015T190000
DTSTAMP:20260421T163245
CREATED:20260121T123326Z
LAST-MODIFIED:20260226T165646Z
UID:497-1792076400-1792090800@www.trachtenverein-bietigheim.de
SUMMARY:Seniorenheim Grünwinkel Karlsruhe
DESCRIPTION:
URL:https://www.trachtenverein-bietigheim.de/termin/seniorenheim-gruenwinkel-karlsruhe/
CATEGORIES:Senioren
ATTACH;FMTTYPE=image/jpeg:https://www.trachtenverein-bietigheim.de/wp-content/uploads/2026/01/15.10.2026-Gruenwinkel-scaled.jpg
END:VEVENT
BEGIN:VEVENT
DTSTART;VALUE=DATE:20261018
DTEND;VALUE=DATE:20261019
DTSTAMP:20260421T163245
CREATED:20260121T124336Z
LAST-MODIFIED:20260220T132314Z
UID:500-1792281600-1792367999@www.trachtenverein-bietigheim.de
SUMMARY:Deutscher Trachtenverband: 20 Jahre „Tracht des Jahres“
DESCRIPTION:
URL:https://www.trachtenverein-bietigheim.de/termin/deutscher-trachtenverband-20-jahre-tracht-des-jahres/
ATTACH;FMTTYPE=image/jpeg:https://www.trachtenverein-bietigheim.de/wp-content/uploads/2026/01/waRQewZ1J3ASrdn7w0Zs.jpg
END:VEVENT
BEGIN:VEVENT
DTSTART;VALUE=DATE:20261023
DTEND;VALUE=DATE:20261026
DTSTAMP:20260421T163245
CREATED:20260121T124456Z
LAST-MODIFIED:20260220T132502Z
UID:502-1792713600-1792972799@www.trachtenverein-bietigheim.de
SUMMARY:Nähseminar 2026
DESCRIPTION:
URL:https://www.trachtenverein-bietigheim.de/termin/naehseminar-2026/
ATTACH;FMTTYPE=image/jpeg:https://www.trachtenverein-bietigheim.de/wp-content/uploads/2026/01/Naehseminar-2026-scaled.jpg
END:VEVENT
BEGIN:VEVENT
DTSTART;TZID=Europe/Berlin:20261108T110000
DTEND;TZID=Europe/Berlin:20261108T160000
DTSTAMP:20260421T163245
CREATED:20260121T124636Z
LAST-MODIFIED:20260220T132541Z
UID:504-1794135600-1794153600@www.trachtenverein-bietigheim.de
SUMMARY:Danz – Regional Waiblingen 2026
DESCRIPTION:
URL:https://www.trachtenverein-bietigheim.de/termin/danz-regional-waiblingen-2026/
ATTACH;FMTTYPE=image/jpeg:https://www.trachtenverein-bietigheim.de/wp-content/uploads/2026/01/P1090386-scaled.jpg
END:VEVENT
END:VCALENDAR