BEGIN:VCALENDAR
VERSION:2.0
PRODID:-//Trachtenverein Bietigheim e.V. - ECPv6.15.17//NONSGML v1.0//EN
CALSCALE:GREGORIAN
METHOD:PUBLISH
X-ORIGINAL-URL:https://www.trachtenverein-bietigheim.de
X-WR-CALDESC:Veranstaltungen für Trachtenverein Bietigheim e.V.
REFRESH-INTERVAL;VALUE=DURATION:PT1H
X-Robots-Tag:noindex
X-PUBLISHED-TTL:PT1H
BEGIN:VTIMEZONE
TZID:Europe/Berlin
BEGIN:DAYLIGHT
TZOFFSETFROM:+0100
TZOFFSETTO:+0200
TZNAME:CEST
DTSTART:20250330T010000
END:DAYLIGHT
BEGIN:STANDARD
TZOFFSETFROM:+0200
TZOFFSETTO:+0100
TZNAME:CET
DTSTART:20251026T010000
END:STANDARD
BEGIN:DAYLIGHT
TZOFFSETFROM:+0100
TZOFFSETTO:+0200
TZNAME:CEST
DTSTART:20260329T010000
END:DAYLIGHT
BEGIN:STANDARD
TZOFFSETFROM:+0200
TZOFFSETTO:+0100
TZNAME:CET
DTSTART:20261025T010000
END:STANDARD
BEGIN:DAYLIGHT
TZOFFSETFROM:+0100
TZOFFSETTO:+0200
TZNAME:CEST
DTSTART:20270328T010000
END:DAYLIGHT
BEGIN:STANDARD
TZOFFSETFROM:+0200
TZOFFSETTO:+0100
TZNAME:CET
DTSTART:20271031T010000
END:STANDARD
END:VTIMEZONE
BEGIN:VEVENT
DTSTART;TZID=Europe/Berlin:20260328T160000
DTEND;TZID=Europe/Berlin:20260328T220000
DTSTAMP:20260421T175426
CREATED:20260121T120106Z
LAST-MODIFIED:20260226T165418Z
UID:467-1774713600-1774735200@www.trachtenverein-bietigheim.de
SUMMARY:Gauversammlung Wendlingen 2026
DESCRIPTION:
URL:https://www.trachtenverein-bietigheim.de/termin/gaujahreshauptversammlung-2026-in-wendlingen/
LOCATION:Südwestdeutscher Gauverband
ATTACH;FMTTYPE=image/jpeg:https://www.trachtenverein-bietigheim.de/wp-content/uploads/2026/01/28.03.2026-Gauversammlung-scaled.jpg
END:VEVENT
BEGIN:VEVENT
DTSTART;TZID=Europe/Berlin:20260307T180000
DTEND;TZID=Europe/Berlin:20260307T200000
DTSTAMP:20260421T175426
CREATED:20260121T115409Z
LAST-MODIFIED:20260220T131548Z
UID:465-1772906400-1772913600@www.trachtenverein-bietigheim.de
SUMMARY:Tanzprobe Trachtenverein Bietigheim e.V.
DESCRIPTION:
URL:https://www.trachtenverein-bietigheim.de/termin/tanzprobe-trachtenverein-bietigheim-e-v/
LOCATION:Vereinsheim\, Bietigheimer Wobachstraße hinter dem Viadukt\, Bietigheim\, Germany
ATTACH;FMTTYPE=image/jpeg:https://www.trachtenverein-bietigheim.de/wp-content/uploads/2026/01/07.03.2026-Gautanzprobe-Bietigheim.jpg
ORGANIZER;CN="Trachtenverein Bietigheim e.V.":MAILTO:Gunter.Dlabal@t-online.de
END:VEVENT
BEGIN:VEVENT
DTSTART;TZID=Europe/Berlin:20260215T100000
DTEND;TZID=Europe/Berlin:20260215T220000
DTSTAMP:20260421T175426
CREATED:20260121T114300Z
LAST-MODIFIED:20260220T131512Z
UID:455-1771149600-1771192800@www.trachtenverein-bietigheim.de
SUMMARY:75 Jahre Trachtenverein Bietigheim e.V.
DESCRIPTION:
URL:https://www.trachtenverein-bietigheim.de/termin/75-jahre-trachtenverein-bietigheim-e-v/
CATEGORIES:Verein
ATTACH;FMTTYPE=image/jpeg:https://www.trachtenverein-bietigheim.de/wp-content/uploads/2026/01/15.02.2026-Jubilaeum-scaled.jpg
END:VEVENT
BEGIN:VEVENT
DTSTART;TZID=Europe/Berlin:20260125T120000
DTEND;TZID=Europe/Berlin:20260125T170000
DTSTAMP:20260421T175426
CREATED:20260121T114153Z
LAST-MODIFIED:20260218T075704Z
UID:453-1769342400-1769360400@www.trachtenverein-bietigheim.de
SUMMARY:Bietigheim Seniorennachmittag 1/2026
DESCRIPTION:
URL:https://www.trachtenverein-bietigheim.de/termin/bietigheim-seniorennachmittag-1-2026/
LOCATION:Vereinsheim\, Bietigheimer Wobachstraße hinter dem Viadukt\, Bietigheim\, Germany
CATEGORIES:Senioren
ATTACH;FMTTYPE=image/jpeg:https://www.trachtenverein-bietigheim.de/wp-content/uploads/2026/01/06_2020_Seniroennachmittag-St_Johanneskirche-scaled.jpg
ORGANIZER;CN="Trachtenverein Bietigheim e.V.":MAILTO:Gunter.Dlabal@t-online.de
END:VEVENT
BEGIN:VEVENT
DTSTART;TZID=Europe/Berlin:20260111T090000
DTEND;TZID=Europe/Berlin:20260111T130000
DTSTAMP:20260421T175426
CREATED:20260121T114056Z
LAST-MODIFIED:20260220T131340Z
UID:451-1768122000-1768136400@www.trachtenverein-bietigheim.de
SUMMARY:Neujahrsfrühschoppen Ebersbach 2026
DESCRIPTION:
URL:https://www.trachtenverein-bietigheim.de/termin/neujahrsfruehschoppen-ebersbach-2026/
CATEGORIES:Verein
ATTACH;FMTTYPE=image/jpeg:https://www.trachtenverein-bietigheim.de/wp-content/uploads/2026/01/11.01.2026-Neujahrsfruehschoppen-Ebersbach-scaled.jpg
ORGANIZER;CN="Trachtenverein Bietigheim e.V.":MAILTO:Gunter.Dlabal@t-online.de
END:VEVENT
END:VCALENDAR