BEGIN:VCALENDAR
VERSION:2.0
PRODID:-//Trachtenverein Bietigheim e.V. - ECPv6.15.17//NONSGML v1.0//EN
CALSCALE:GREGORIAN
METHOD:PUBLISH
X-WR-CALNAME:Trachtenverein Bietigheim e.V.
X-ORIGINAL-URL:https://www.trachtenverein-bietigheim.de
X-WR-CALDESC:Veranstaltungen für Trachtenverein Bietigheim e.V.
REFRESH-INTERVAL;VALUE=DURATION:PT1H
X-Robots-Tag:noindex
X-PUBLISHED-TTL:PT1H
BEGIN:VTIMEZONE
TZID:Europe/Berlin
BEGIN:DAYLIGHT
TZOFFSETFROM:+0100
TZOFFSETTO:+0200
TZNAME:CEST
DTSTART:20250330T010000
END:DAYLIGHT
BEGIN:STANDARD
TZOFFSETFROM:+0200
TZOFFSETTO:+0100
TZNAME:CET
DTSTART:20251026T010000
END:STANDARD
BEGIN:DAYLIGHT
TZOFFSETFROM:+0100
TZOFFSETTO:+0200
TZNAME:CEST
DTSTART:20260329T010000
END:DAYLIGHT
BEGIN:STANDARD
TZOFFSETFROM:+0200
TZOFFSETTO:+0100
TZNAME:CET
DTSTART:20261025T010000
END:STANDARD
BEGIN:DAYLIGHT
TZOFFSETFROM:+0100
TZOFFSETTO:+0200
TZNAME:CEST
DTSTART:20270328T010000
END:DAYLIGHT
BEGIN:STANDARD
TZOFFSETFROM:+0200
TZOFFSETTO:+0100
TZNAME:CET
DTSTART:20271031T010000
END:STANDARD
END:VTIMEZONE
BEGIN:VEVENT
DTSTART;VALUE=DATE:20260724
DTEND;VALUE=DATE:20260727
DTSTAMP:20260421T161001
CREATED:20260121T121558Z
LAST-MODIFIED:20260121T121832Z
UID:477-1784851200-1785110399@www.trachtenverein-bietigheim.de
SUMMARY:Vinzenzifest Wendlingen 2026
DESCRIPTION:Sequibus nitaerum aribusa perrovidesed endestius natem apid qui reium faccabor rerspe nam\, tem hitas exceptam aut et volupta quataquassus doluptibus pores et\, velesciis volorio reprovit\, sequuntia aspellandam ea dellaut quam dolecepero ipicimusciis ipitio. Itatis et eatem. Dae praepud amenimp orioris et aceptat quatur assincia volorum quissit\, te odit\, optatur? Nos aut ut perorep erescimporum idelenditiis consenimenda volupta tiorum apienetust aut verro moluptae. Dolupta temoloria dolorerem quiaepu danturerum et ipiti ius velic tempori buscieni officipsapit ut omnis audia nam verro consequi nonsendamus.
URL:https://www.trachtenverein-bietigheim.de/termin/vinzenzifest-wendlingen-2026/
ATTACH;FMTTYPE=image/jpeg:https://www.trachtenverein-bietigheim.de/wp-content/uploads/2026/01/Vinzenzifest_Logo.jpg
END:VEVENT
END:VCALENDAR