BEGIN:VCALENDAR
VERSION:2.0
PRODID:-//Trachtenverein Bietigheim e.V. - ECPv6.15.17//NONSGML v1.0//EN
CALSCALE:GREGORIAN
METHOD:PUBLISH
X-WR-CALNAME:Trachtenverein Bietigheim e.V.
X-ORIGINAL-URL:https://www.trachtenverein-bietigheim.de
X-WR-CALDESC:Veranstaltungen für Trachtenverein Bietigheim e.V.
REFRESH-INTERVAL;VALUE=DURATION:PT1H
X-Robots-Tag:noindex
X-PUBLISHED-TTL:PT1H
BEGIN:VTIMEZONE
TZID:Europe/Berlin
BEGIN:DAYLIGHT
TZOFFSETFROM:+0100
TZOFFSETTO:+0200
TZNAME:CEST
DTSTART:20250330T010000
END:DAYLIGHT
BEGIN:STANDARD
TZOFFSETFROM:+0200
TZOFFSETTO:+0100
TZNAME:CET
DTSTART:20251026T010000
END:STANDARD
BEGIN:DAYLIGHT
TZOFFSETFROM:+0100
TZOFFSETTO:+0200
TZNAME:CEST
DTSTART:20260329T010000
END:DAYLIGHT
BEGIN:STANDARD
TZOFFSETFROM:+0200
TZOFFSETTO:+0100
TZNAME:CET
DTSTART:20261025T010000
END:STANDARD
BEGIN:DAYLIGHT
TZOFFSETFROM:+0100
TZOFFSETTO:+0200
TZNAME:CEST
DTSTART:20270328T010000
END:DAYLIGHT
BEGIN:STANDARD
TZOFFSETFROM:+0200
TZOFFSETTO:+0100
TZNAME:CET
DTSTART:20271031T010000
END:STANDARD
END:VTIMEZONE
BEGIN:VEVENT
DTSTART;TZID=Europe/Berlin:20260607T100000
DTEND;TZID=Europe/Berlin:20260607T170000
DTSTAMP:20260421T150602
CREATED:20260121T120233Z
LAST-MODIFIED:20260226T165459Z
UID:470-1780826400-1780851600@www.trachtenverein-bietigheim.de
SUMMARY:Tanzprobe Ebersbach
DESCRIPTION:
URL:https://www.trachtenverein-bietigheim.de/termin/tanzprobe-ebersbach/
LOCATION:Vereinsheim\, Bietigheimer Wobachstraße hinter dem Viadukt\, Bietigheim\, Germany
ATTACH;FMTTYPE=image/jpeg:https://www.trachtenverein-bietigheim.de/wp-content/uploads/2026/01/07.06.2026-Gautanzprobe-Ebersbach.jpg
ORGANIZER;CN="Trachtenverein Bietigheim e.V.":MAILTO:Gunter.Dlabal@t-online.de
END:VEVENT
END:VCALENDAR